{"text_format":"3","workbook":"xlsx","n_sheets":1,"sheets":["Sheet1"],"not_rendered":{"external_links":1,"defined_names":1},"read":"whole","date_system":"1900"}

{"sheet":"Sheet1","index":0,"n_rows":58,"n_cols":5,"rows_kept":58,"merged":[[0,0,0,4]]}
["天府新区航空旅游职业学院\n2019年度专业技术职务评审结果公示（中级）"]
["序号","姓名","性别","申报职称","备注"]
[1,"白一君",{"$f":"VLOOKUP(B3,[1]在职员工信息表!$A$6:$B$543,2,0)","v":"女"},"讲师"]
[2,"柴雪莲","女","讲师"]
[3,"陈波","男","讲师"]
[4,"陈寒春",{"$f":"VLOOKUP(B6,[1]在职员工信息表!$A$6:$B$543,2,0)","v":"女"},"讲师"]
[5,"陈娟",{"$f":"VLOOKUP(B7,[1]在职员工信息表!$A$6:$B$543,2,0)","v":"女"},"讲师"]
[6,"陈文虎",{"$f":"VLOOKUP(B8,[1]在职员工信息表!$A$6:$B$543,2,0)","v":"男"},"讲师"]
[7,"程娟",{"$f":"VLOOKUP(B9,[1]在职员工信息表!$A$6:$B$543,2,0)","v":"女"},"讲师"]
[8,"戴琳玥",{"$f":"VLOOKUP(B10,[1]在职员工信息表!$A$6:$B$543,2,0)","v":"女"},"讲师"]
[9,"窦丽娜","女","讲师"]
[10,"贺盛兰","女","讲师"]
[11,"黄冬英",{"$f":"VLOOKUP(B13,[1]在职员工信息表!$A$6:$B$543,2,0)","v":"女"},"讲师"]
[12,"赖秋林","女","讲师"]
[13,"雷娇",{"$f":"VLOOKUP(B15,[1]在职员工信息表!$A$6:$B$543,2,0)","v":"女"},"讲师"]
[14,"李桂萍",{"$f":"VLOOKUP(B16,[1]在职员工信息表!$A$6:$B$543,2,0)","v":"女"},"讲师"]
[15,"李沁沅",{"$f":"VLOOKUP(B17,[1]在职员工信息表!$A$6:$B$543,2,0)","v":"男"},"讲师"]
[16,"李晓杰",{"$f":"VLOOKUP(B18,[1]在职员工信息表!$A$6:$B$543,2,0)","v":"女"},"讲师"]
[17,"李延娟",{"$f":"VLOOKUP(B19,[1]在职员工信息表!$A$6:$B$543,2,0)","v":"女"},"讲师"]
[18,"梁爽",{"$f":"VLOOKUP(B20,[1]在职员工信息表!$A$6:$B$543,2,0)","v":"女"},"讲师"]
[19,"廖尹萍",{"$f":"VLOOKUP(B21,[1]在职员工信息表!$A$6:$B$543,2,0)","v":"女"},"讲师"]
[20,"林丙梅","女","讲师"]
[21,"刘冬梅",{"$f":"VLOOKUP(B23,[1]在职员工信息表!$A$6:$B$543,2,0)","v":"女"},"讲师"]
[22,"刘婷",{"$f":"VLOOKUP(B24,[1]在职员工信息表!$A$6:$B$543,2,0)","v":"女"},"讲师"]
[23,"罗刚",{"$f":"VLOOKUP(B25,[1]在职员工信息表!$A$6:$B$543,2,0)","v":"男"},"讲师"]
[24,"罗璇",{"$f":"VLOOKUP(B26,[1]在职员工信息表!$A$6:$B$543,2,0)","v":"女"},"讲师"]
[25,"罗玉玲",{"$f":"VLOOKUP(B27,[1]在职员工信息表!$A$6:$B$543,2,0)","v":"女"},"讲师"]
[26,"倪兴隆",{"$f":"VLOOKUP(B28,[1]在职员工信息表!$A$6:$B$543,2,0)","v":"男"},"讲师"]
[27,"任春生",{"$f":"VLOOKUP(B29,[1]在职员工信息表!$A$6:$B$543,2,0)","v":"男"},"讲师"]
[28,"石慧",{"$f":"VLOOKUP(B30,[1]在职员工信息表!$A$6:$B$543,2,0)","v":"女"},"讲师"]
[29,"唐西泽",{"$f":"VLOOKUP(B31,[1]在职员工信息表!$A$6:$B$543,2,0)","v":"男"},"讲师"]
[30,"唐小松","男","讲师"]
[31,"陶睿",{"$f":"VLOOKUP(B33,[1]在职员工信息表!$A$6:$B$543,2,0)","v":"女"},"讲师"]
[32,"汪翔",{"$f":"VLOOKUP(B34,[1]在职员工信息表!$A$6:$B$543,2,0)","v":"男"},"讲师"]
[33,"王华",{"$f":"VLOOKUP(B35,[1]在职员工信息表!$A$6:$B$543,2,0)","v":"男"},"讲师"]
[34,"王九洲",{"$f":"VLOOKUP(B36,[1]在职员工信息表!$A$6:$B$543,2,0)","v":"男"},"讲师"]
[35,"王科",{"$f":"VLOOKUP(B37,[1]在职员工信息表!$A$6:$B$543,2,0)","v":"女"},"讲师"]
[36,"王平","女","讲师"]
[37,"王少芳",{"$f":"VLOOKUP(B39,[1]在职员工信息表!$A$6:$B$543,2,0)","v":"女"},"讲师"]
[38,"王艳丹",{"$f":"VLOOKUP(B40,[1]在职员工信息表!$A$6:$B$543,2,0)","v":"女"},"讲师"]
[39,"吴婕","女","讲师"]
[40,"吴娟","女","讲师"]
[41,"吴珊",{"$f":"VLOOKUP(B43,[1]在职员工信息表!$A$6:$B$543,2,0)","v":"女"},"讲师"]
[42,"谢春建",{"$f":"VLOOKUP(B44,[1]在职员工信息表!$A$6:$B$543,2,0)","v":"男"},"讲师"]
[43,"谢竹","女","讲师"]
[44,"熊文浩",{"$f":"VLOOKUP(B46,[1]在职员工信息表!$A$6:$B$543,2,0)","v":"男"},"讲师"]
[45,"杨欢",{"$f":"VLOOKUP(B47,[1]在职员工信息表!$A$6:$B$543,2,0)","v":"女"},"讲师"]
[46,"杨俊杰",{"$f":"VLOOKUP(B48,[1]在职员工信息表!$A$6:$B$543,2,0)","v":"女"},"讲师"]
[47,"杨理源",{"$f":"VLOOKUP(B49,[1]在职员工信息表!$A$6:$B$543,2,0)","v":"男"},"讲师"]
[48,"袁梅",{"$f":"VLOOKUP(B50,[1]在职员工信息表!$A$6:$B$543,2,0)","v":"女"},"讲师"]
[49,"张晓玲",{"$f":"VLOOKUP(B51,[1]在职员工信息表!$A$6:$B$543,2,0)","v":"女"},"讲师"]
[50,"郑龙",{"$f":"VLOOKUP(B52,[1]在职员工信息表!$A$6:$B$543,2,0)","v":"男"},"讲师"]
[51,"郑婷婷","女","讲师"]
[52,"周原","女","讲师"]
[53,"邹文",{"$f":"VLOOKUP(B55,[1]在职员工信息表!$A$6:$B$543,2,0)","v":"女"},"讲师"]
[54,"孟宇豪",{"$f":"VLOOKUP(B56,[1]在职员工信息表!$A$6:$B$543,2,0)","v":"男"},"实验师"]
[55,"程琳",{"$f":"VLOOKUP(B57,[1]在职员工信息表!$A$6:$B$543,2,0)","v":"女"},"馆员"]
[56,"杨波",{"$f":"VLOOKUP(B58,[1]在职员工信息表!$A$6:$B$543,2,0)","v":"男"},"馆员"]